BEGIN:VCALENDAR
VERSION:2.0
PRODID:-//ChamberMaster//Event Calendar 2.0//EN
METHOD:PUBLISH
X-PUBLISHED-TTL:P3D
REFRESH-INTERVAL:P3D
CALSCALE:GREGORIAN
BEGIN:VEVENT
DTSTART:20130207T230000Z
DTEND:20130208T010000Z
X-MICROSOFT-CDO-ALLDAYEVENT:FALSE
SUMMARY:Business After Hours: Leadership Kearney
DESCRIPTION:Come find out what Leadership Kearney is all about with Business After Hours\, hosted by the Kearney Country Club
X-ALT-DESC;FMTTYPE=text/html:Come find out what Leadership Kearney is all about with Business After Hours\, hosted by the Kearney Country Club
LOCATION:Kearney Country Club
UID:e.1404.2201
SEQUENCE:3
DTSTAMP:20260424T160015Z
URL:https://members.kearneycoc.org/events/details/business-after-hours-leadership-kearney-02-07-2013-2201
END:VEVENT

END:VCALENDAR
