BEGIN:VCALENDAR
VERSION:2.0
PRODID:-//ChamberMaster//Event Calendar 2.0//EN
METHOD:PUBLISH
X-PUBLISHED-TTL:P3D
REFRESH-INTERVAL:P3D
CALSCALE:GREGORIAN
BEGIN:VEVENT
DTSTART:20120809T220000Z
DTEND:20120810T000000Z
X-MICROSOFT-CDO-ALLDAYEVENT:FALSE
SUMMARY:Business After Hours: Meadowlark Dental
DESCRIPTION:Come to the Chamber's premiere networking event\, hosted by Meadowlark Dental
X-ALT-DESC;FMTTYPE=text/html:Come to the Chamber&#39\;s premiere networking event\, hosted by Meadowlark Dental
LOCATION:Meadowlark Dental is located at 2907 W 37th Street in Suite B
UID:e.1404.1923
SEQUENCE:3
DTSTAMP:20260425T015343Z
URL:https://members.kearneycoc.org/events/details/business-after-hours-meadowlark-dental-08-09-2012-1923
END:VEVENT

END:VCALENDAR
