BEGIN:VCALENDAR
VERSION:2.0
PRODID:-//ChamberMaster//Event Calendar 2.0//EN
METHOD:PUBLISH
X-PUBLISHED-TTL:P3D
REFRESH-INTERVAL:P3D
CALSCALE:GREGORIAN
BEGIN:VEVENT
DTSTART:20121023T223000Z
DTEND:20121024T003000Z
X-MICROSOFT-CDO-ALLDAYEVENT:FALSE
SUMMARY:Business After Hours: Rowe Sanctuary
DESCRIPTION:Business After Hours
X-ALT-DESC;FMTTYPE=text/html:Business After Hours
LOCATION:Rowe Sanctuary 44450 Elm Island Rd Gibbon\, NE
UID:e.1404.2196
SEQUENCE:3
DTSTAMP:20260425T002430Z
URL:https://members.kearneycoc.org/events/details/business-after-hours-rowe-sanctuary-10-23-2012-2196
END:VEVENT

END:VCALENDAR
