BEGIN:VCALENDAR
VERSION:2.0
PRODID:-//ChamberMaster//Event Calendar 2.0//EN
METHOD:PUBLISH
X-PUBLISHED-TTL:P3D
REFRESH-INTERVAL:P3D
CALSCALE:GREGORIAN
BEGIN:VEVENT
DTSTART:20120927T220000Z
DTEND:20120928T000000Z
X-MICROSOFT-CDO-ALLDAYEVENT:FALSE
SUMMARY:Business After Hours: Runza Restaurants
DESCRIPTION:Runza Restaurant of Kearney is hosting Business After Hours to celebrate 10 years of being at their south location
X-ALT-DESC;FMTTYPE=text/html:Runza Restaurant of Kearney is hosting Business After Hours to celebrate 10 years of being at their south location
LOCATION:815 E 2nd Avenue
UID:e.1404.2185
SEQUENCE:3
DTSTAMP:20260425T002430Z
URL:https://members.kearneycoc.org/events/details/business-after-hours-runza-restaurants-09-27-2012-2185
END:VEVENT

END:VCALENDAR
