BEGIN:VCALENDAR
VERSION:2.0
PRODID:-//ChamberMaster//Event Calendar 2.0//EN
METHOD:PUBLISH
X-PUBLISHED-TTL:P3D
REFRESH-INTERVAL:P3D
CALSCALE:GREGORIAN
BEGIN:VEVENT
DTSTART:20120821T220000Z
DTEND:20120822T000000Z
X-MICROSOFT-CDO-ALLDAYEVENT:FALSE
SUMMARY:Business After Hours: Xpanxion
DESCRIPTION:Join us or Business After Hours at Xpanxion
X-ALT-DESC;FMTTYPE=text/html:Join us or Business After Hours at Xpanxion
LOCATION:810 E 56th Street
UID:e.1404.1939
SEQUENCE:3
DTSTAMP:20260425T033122Z
URL:https://members.kearneycoc.org/events/details/business-after-hours-xpanxion-08-21-2012-1939
END:VEVENT

END:VCALENDAR
