BEGIN:VCALENDAR
VERSION:2.0
PRODID:-//ChamberMaster//Event Calendar 2.0//EN
METHOD:PUBLISH
X-PUBLISHED-TTL:P3D
REFRESH-INTERVAL:P3D
CALSCALE:GREGORIAN
BEGIN:VEVENT
DTSTART:20150219T180000Z
DTEND:20150219T190000Z
X-MICROSOFT-CDO-ALLDAYEVENT:FALSE
SUMMARY:Business Communication Skills Webinar - Chamber YOUniversity
DESCRIPTION:How to Communicate Effectively at Work Webinar presented by Dan Strongin with COGGNO.\n\n \n\nThis webinar will cover active listening\, reflective and directive responding\, speaking and writing more effectively and provide exercises to help you overcome communication problems\, understand and be understood. \n\n\n\nRegister now to learn better business communication skills for a more productive work life!
X-ALT-DESC;FMTTYPE=text/html:<strong>How to Communicate&nbsp\;Effectively at Work Webinar presented by Dan&nbsp\;Strongin with COGGNO.</strong><br />\n&nbsp\;<br />\nThis webinar will cover active listening\, reflective and directive responding\, speaking and writing more effectively and provide exercises to help you overcome communication problems\, understand and be understood.&nbsp\;<br />\n<br />\nRegister now to learn better business communication skills for a more productive work life!<br />\n<br />\n<br />\n<br />\n&#8203\;
LOCATION:Kearney Area Chamber of Commerce Board Room
UID:e.1404.5995
SEQUENCE:3
DTSTAMP:20260422T212627Z
URL:https://members.kearneycoc.org/events/details/business-communication-skills-webinar-chamber-youniversity-02-19-2015-5995
END:VEVENT

END:VCALENDAR
