BEGIN:VCALENDAR
VERSION:2.0
PRODID:-//ChamberMaster//Event Calendar 2.0//EN
METHOD:PUBLISH
X-PUBLISHED-TTL:P3D
REFRESH-INTERVAL:P3D
CALSCALE:GREGORIAN
BEGIN:VEVENT
DTSTART:20220203T220000Z
DTEND:20220203T230000Z
X-MICROSOFT-CDO-ALLDAYEVENT:FALSE
SUMMARY:Business & Education Committee meeting
DESCRIPTION:Chair: Mark Liljehorn\, Legacy Outdoor\n\n\n\nFor this month's meeting\, we will be presenting the Spotlight Business of the Month Award to Active Family Chiropractic & Acupuncture.  They are undergoing construction at their location\, so the presentation will be here at the Chamber.  Chris Schaaf is their Lead Representative and plans to inform the committee on their programs and current business news including their renovation. \n\n \n\nPlease join us at the Chamber Thursday\, February 3rd at 4:00 p.m. for about 30 minutes and help celebrate Active Family Chiropractic & Acupuncture's recent achievements!\n\n\n\n\n\nThe Business & Education Committee's purpose is to advance opportunities for small business\, promote diversity\, and educate members about current trends and technologies. This group will also work to connect students with business and educational opportunities to equip and develop future leaders.
X-ALT-DESC;FMTTYPE=text/html:<span style="font-family: Tahoma\, sans-serif\; font-size: 12px\;"><strong>Chair:&nbsp\;</strong></span><span style="font-family: Tahoma\, sans-serif\;">Mark Liljehorn\, Legacy Outdoor</span><br style="font-family: Tahoma\, sans-serif\;" />\n<br />\nFor this month&rsquo\;s meeting\, we will be presenting the Spotlight Business of the Month Award to Active Family Chiropractic &amp\; Acupuncture.&nbsp\; They are undergoing construction at their location\, so the presentation will be here at the Chamber.&nbsp\; Chris Schaaf is their Lead Representative and plans to inform the committee on their programs and current business news including their renovation.&nbsp\;<br />\n&nbsp\;<br />\nPlease join us at the Chamber&nbsp\;<strong>Thursday\, February 3rd at 4:00 p.m. for about 30 minutes</strong>&nbsp\;and help celebrate Active Family Chiropractic &amp\; Acupuncture&rsquo\;s recent achievements!<br />\n<br />\n<br style="font-family: Tahoma\, sans-serif\;" />\n<span style="font-family: Tahoma\, sans-serif\;">The Business &amp\; Education Committee&#39\;s purpose is to advance opportunities for small business\, promote diversity\, and educate members about current trends and technologies. This group will also work to connect students with business and educational opportunities to equip and develop future leaders.&nbsp\;</span>
LOCATION:Kearney Area Chamber of Commerce 1007 2nd Ave. Kearney\, NE 68847
UID:e.1404.19480
SEQUENCE:3
DTSTAMP:20260423T164213Z
URL:https://members.kearneycoc.org/events/details/business-education-committee-meeting-02-03-2022-19480
END:VEVENT

END:VCALENDAR
