BEGIN:VCALENDAR
VERSION:2.0
PRODID:-//ChamberMaster//Event Calendar 2.0//EN
METHOD:PUBLISH
X-PUBLISHED-TTL:P3D
REFRESH-INTERVAL:P3D
CALSCALE:GREGORIAN
BEGIN:VEVENT
DTSTART:20220303T220000Z
DTEND:20220303T230000Z
X-MICROSOFT-CDO-ALLDAYEVENT:FALSE
SUMMARY:Business & Education Committee meeting
DESCRIPTION:Chair: Mark Liljehorn\, Legacy Outdoor\n\n\n\nFor this month's meeting\, we will be presenting the Spotlight Business of the Month Award to Tabitha Health Care Services.  They will provide a presentation reflecting how they connect with the community\, attract new members\, and have expanded their locations.  They recently became new members to the Kearney Area Chamber of Commerce. The presentation will take place in the Chamber boardroom.  \n\n \n\nPlease join us at the Chamber Thursday\, March 3rd at 4:00 p.m.  and help celebrate Tabitha Health Care Service's recent achievements!\n\n\n\n\n\n\n\nThe Business & Education Committee's purpose is to advance opportunities for small business\, promote diversity\, and educate members about current trends and technologies. This group will also work to connect students with business and educational opportunities to equip and develop future leaders.
X-ALT-DESC;FMTTYPE=text/html:<span style="font-family: Tahoma\, sans-serif\; font-size: 12px\;"><strong>Chair:&nbsp\;</strong></span><span style="font-family: Tahoma\, sans-serif\;">Mark Liljehorn\, Legacy Outdoor</span><br style="font-family: Tahoma\, sans-serif\;" />\n<br />\nFor this month&rsquo\;s meeting\, we will be presenting the Spotlight Business of the Month Award to Tabitha Health Care Services.&nbsp\; They will provide a presentation reflecting how they<span style="font-family:calibri\,sans-serif\;"><span style="font-size:11.0pt\;">&nbsp\;connect with the community\, attract new members\, and have expanded their locations.&nbsp\; They recently became new members to the Kearney Area Chamber of Commerce.&nbsp\;</span></span>The presentation will take place in the Chamber boardroom.&nbsp\;&nbsp\;<br />\n&nbsp\;<br />\nPlease join us at the Chamber&nbsp\;<strong>Thursday\, March 3rd at 4:00 p.m. </strong>&nbsp\;and help celebrate Tabitha Health Care Service&#39\;s recent achievements!<br />\n<br />\n<br />\n<br style="font-family: Tahoma\, sans-serif\;" />\n<span style="font-family: Tahoma\, sans-serif\;">The Business &amp\; Education Committee&#39\;s purpose is to advance opportunities for small business\, promote diversity\, and educate members about current trends and technologies. This group will also work to connect students with business and educational opportunities to equip and develop future leaders.&nbsp\;</span>
LOCATION:Kearney Area Chamber of Commerce 1007 2nd Ave. Kearney\, NE 68847
UID:e.1404.19481
SEQUENCE:3
DTSTAMP:20260423T150106Z
URL:https://members.kearneycoc.org/events/details/business-education-committee-meeting-03-03-2022-19481
END:VEVENT

END:VCALENDAR
