BEGIN:VCALENDAR
VERSION:2.0
PRODID:-//ChamberMaster//Event Calendar 2.0//EN
METHOD:PUBLISH
X-PUBLISHED-TTL:P3D
REFRESH-INTERVAL:P3D
CALSCALE:GREGORIAN
BEGIN:VEVENT
DTSTART:20220505T210000Z
DTEND:20220505T220000Z
X-MICROSOFT-CDO-ALLDAYEVENT:FALSE
SUMMARY:Business & Education Committee meeting
DESCRIPTION:Chair: Mark Liljehorn\, Legacy Outdoor\n\n\n\nThe Business & Education Committee's purpose is to advance opportunities for small business\, promote diversity\, and educate members about current trends and technologies. This group will also work to connect students with business and educational opportunities to equip and develop future leaders.
X-ALT-DESC;FMTTYPE=text/html:<span style="font-family: Tahoma\, sans-serif\; font-size: 12px\;"><strong>Chair:&nbsp\;</strong></span><span style="font-family: Tahoma\, sans-serif\;">Mark Liljehorn\, Legacy Outdoor</span><br style="font-family: Tahoma\, sans-serif\;" />\n<br style="font-family: Tahoma\, sans-serif\;" />\n<span style="font-family: Tahoma\, sans-serif\;">The Business &amp\; Education Committee&#39\;s purpose is to advance opportunities for small business\, promote diversity\, and educate members about current trends and technologies. This group will also work to connect students with business and educational opportunities to equip and develop future leaders.&nbsp\;</span>
LOCATION:Kearney Area Chamber of Commerce 1007 2nd Ave. Kearney\, NE 68847
UID:e.1404.19483
SEQUENCE:3
DTSTAMP:20260423T114110Z
URL:https://members.kearneycoc.org/events/details/business-education-committee-meeting-05-05-2022-19483
END:VEVENT

END:VCALENDAR
