BEGIN:VCALENDAR
VERSION:2.0
PRODID:-//ChamberMaster//Event Calendar 2.0//EN
METHOD:PUBLISH
X-PUBLISHED-TTL:P3D
REFRESH-INTERVAL:P3D
CALSCALE:GREGORIAN
BEGIN:VEVENT
DTSTART:20160420T133000Z
DTEND:20160420T200000Z
X-MICROSOFT-CDO-ALLDAYEVENT:FALSE
SUMMARY:Business Innovation Conference
DESCRIPTION:ProCode Events brought to you by Open for Business Magazine will have their premier business conference event on April\, 20th at the Lark in Hastings\, NE. We are excited to announce our first conference will be titled Business Innovation and will focus on sparking great ideas and engagement in your company. This event will challenge your team to take workplace creativity to the next level. Welcoming Keynote Speaker: Dr. David Keck |Inaugural Director of Raikes School of Computer Science & Management at UNL (2001-2015) This event will consist of dynamic speakers from across Nebraska\, featuring a keynote on innovation with a fire-round of expert advice and networking with local experts. THIS CONFERENCE WILL MOTIVATE | INSPIRE | ENERGIZE It will be packed with useful information delivered in a fun\, concise\, mindful way. ? SPEED NETWORKING ? HOT SEAT PANEL ? EXPERT FIRE ROUNDS ? PRIZES ? PRO PHOTOS WHO: You\, Your Team\, Your Ideas! WHAT: Join us for a day of inspiring motivation for turning your creativity into innovation in the workplace. Learn how to create a culture of ideas & motion. REGISTER: Online today at procodeevents.com or email info@openforbusinessmagazine.com for group tickets!
X-ALT-DESC;FMTTYPE=text/html:ProCode Events brought to you by Open for Business Magazine will have their premier business conference event on April\, 20th at the Lark in Hastings\, NE. We are excited to announce our first conference will be titled Business Innovation and will focus on sparking great ideas and engagement in your company. This event will challenge your team to take workplace creativity to the next level. Welcoming Keynote Speaker: Dr. David Keck |Inaugural Director of Raikes School of Computer Science &amp\; Management at UNL (2001-2015) This event will consist of dynamic speakers from across Nebraska\, featuring a keynote on innovation with a fire-round of expert advice and networking with local experts. THIS CONFERENCE WILL MOTIVATE | INSPIRE | ENERGIZE It will be packed with useful information delivered in a fun\, concise\, mindful way. ? SPEED NETWORKING ? HOT SEAT PANEL ? EXPERT FIRE ROUNDS ? PRIZES ? PRO PHOTOS WHO: You\, Your Team\, Your Ideas! WHAT: Join us for a day of inspiring motivation for turning your creativity into innovation in the workplace. Learn how to create a culture of ideas &amp\; motion. REGISTER: Online today at procodeevents.com or email info@openforbusinessmagazine.com for group tickets!
LOCATION:The Lark Hastings\, NE
UID:e.1404.7521
SEQUENCE:3
DTSTAMP:20260421T233841Z
URL:https://members.kearneycoc.org/events/details/business-innovation-conference-04-20-2016-7521
END:VEVENT

END:VCALENDAR
