BEGIN:VCALENDAR
VERSION:2.0
PRODID:-//ChamberMaster//Event Calendar 2.0//EN
METHOD:PUBLISH
X-PUBLISHED-TTL:P3D
REFRESH-INTERVAL:P3D
CALSCALE:GREGORIAN
BEGIN:VEVENT
DTSTART:20140206T143000Z
DTEND:20140206T153000Z
X-MICROSOFT-CDO-ALLDAYEVENT:FALSE
SUMMARY:Business Team Building
DESCRIPTION:Thursday\, February 6\n	\n		8:30 am - 9:30 am\n	\n		Kearney Area Chamber of Commerce Board Room\n	\n		1007 Second Ave.\n	\n		$15.00 for Chamber Members\, $20.00 for non-members\n	\n		Breakfast is provided\n	\n		Please RSVP to Leslie Means at lmeans@kearneycoc.org or register online here.  \n	\n		Presented by:  Josh Erickson with Team Concepts\n\n\n	Josh is a master team builder. For the last 15 years\, he has been impacting teams: businesses\, high schools\, colleges\, churches\, non-profits\, and athletic teams of all levels. Josh has a unique gift for bringing teams into unity so positive change can be achieved. \n\n	 \n\n	He will be discussing employee engagement\, the #1 predictor of profitability.
X-ALT-DESC;FMTTYPE=text/html:<ul style="color: rgb(0\, 0\, 0)\; font-family: Helvetica\, Arial\, sans-serif\;">\n	<li style="list-style-type: square\;">\n		Thursday\, February 6</li>\n	<li style="list-style-type: square\;">\n		8:30 am - 9:30 am</li>\n	<li style="list-style-type: square\;">\n		Kearney Area Chamber of Commerce Board Room</li>\n	<li style="list-style-type: square\;">\n		1007 Second Ave.</li>\n	<li style="list-style-type: square\;">\n		$15.00 for Chamber Members\, $20.00 for non-members</li>\n	<li style="list-style-type: square\;">\n		Breakfast is provided</li>\n	<li style="list-style-type: square\;">\n		Please RSVP to Leslie Means at lmeans@kearneycoc.org or register online here. &nbsp\;</li>\n	<li style="list-style-type: square\;">\n		Presented by: &nbsp\;Josh Erickson with Team Concepts</li>\n</ul>\n<p style="color: rgb(0\, 0\, 0)\; font-family: Helvetica\, Arial\, sans-serif\;">\n	Josh is a master team builder. For the last 15 years\, he has been impacting teams: businesses\, high schools\, colleges\, churches\, non-profits\, and athletic teams of all levels. Josh has a unique gift for bringing teams into unity so positive change can be achieved.&nbsp\;</p>\n<p style="color: rgb(0\, 0\, 0)\; font-family: Helvetica\, Arial\, sans-serif\;">\n	&nbsp\;</p>\n<p style="color: rgb(0\, 0\, 0)\; font-family: Helvetica\, Arial\, sans-serif\;">\n	He will be discussing employee engagement\, the #1 predictor of profitability.</p>\n<div>\n	&nbsp\;</div>\n
LOCATION:Kearney Area Chamber of Commerce Board Room
UID:e.1404.3522
SEQUENCE:3
DTSTAMP:20260423T195500Z
URL:https://members.kearneycoc.org/events/details/business-team-building-02-06-2014-3522
END:VEVENT

END:VCALENDAR
