BEGIN:VCALENDAR
VERSION:2.0
PRODID:-//ChamberMaster//Event Calendar 2.0//EN
METHOD:PUBLISH
X-PUBLISHED-TTL:P3D
REFRESH-INTERVAL:P3D
CALSCALE:GREGORIAN
BEGIN:VEVENT
DTSTART:20190312T143000Z
DTEND:20190312T163000Z
X-MICROSOFT-CDO-ALLDAYEVENT:FALSE
SUMMARY:Butterfly Gardening/Butterflies and Moths of NE
DESCRIPTION:This Senior College class is your chance to learn about butterllies and moths. Ever hear of a Wild Indigo Duskywing? How about a Sleepy Orange? They're butterflies\, and you can attract them to your yard by planting the correct plants. In this class you will learn about which plants help them survive and thrive and which are found in Nebraska. There will be class discussions about what plants work and feedback from participants.
X-ALT-DESC;FMTTYPE=text/html:This Senior College class is your chance to learn about butterllies and moths. Ever hear of a Wild Indigo Duskywing? How about a Sleepy Orange? They&rsquo\;re butterflies\, and you can attract them to your yard by planting the correct plants. In this class you will learn about which plants help them survive and thrive and which are found in Nebraska. There will be class discussions about what plants work and feedback from participants.
LOCATION:Kearney Public Library Niobrara Room
UID:e.1404.15404
SEQUENCE:3
DTSTAMP:20260426T033538Z
URL:https://members.kearneycoc.org/events/details/butterfly-gardening-butterflies-and-moths-of-ne-15404
END:VEVENT

END:VCALENDAR
