BEGIN:VCALENDAR
VERSION:2.0
PRODID:-//ChamberMaster//Event Calendar 2.0//EN
METHOD:PUBLISH
X-PUBLISHED-TTL:P3D
REFRESH-INTERVAL:P3D
CALSCALE:GREGORIAN
BEGIN:VEVENT
DTSTART:20161026T130000Z
DTEND:20161026T140000Z
X-MICROSOFT-CDO-ALLDAYEVENT:FALSE
SUMMARY:Buxton- "Getting Beyond Demographics"
DESCRIPTION:An informative presentation on development solutions for local companies. The presentation will discuss consumer/workforce profiles\, merchandise preferences\,communication mediums for marketing\, and uncover consumer behaviors and lifestyle characteristics of the market.
X-ALT-DESC;FMTTYPE=text/html:An informative presentation on development solutions for local companies. The presentation will discuss consumer/workforce profiles\, merchandise preferences\,communication mediums for marketing\, and uncover consumer behaviors and lifestyle characteristics of the market.
LOCATION:Harmon Park Activity Center 3100 5th Ave Kearney\, NE 68845
UID:e.1404.9068
SEQUENCE:3
DTSTAMP:20260421T122306Z
URL:https://members.kearneycoc.org/events/details/buxton-getting-beyond-demographics-9068
END:VEVENT

END:VCALENDAR
