BEGIN:VCALENDAR
VERSION:2.0
PRODID:-//ChamberMaster//Event Calendar 2.0//EN
METHOD:PUBLISH
X-PUBLISHED-TTL:P3D
REFRESH-INTERVAL:P3D
CALSCALE:GREGORIAN
BEGIN:VEVENT
DTSTART;VALUE=DATE:20141108
DTEND;VALUE=DATE:20141112
TRANSP:TRANSPARENT
X-MICROSOFT-CDO-ALLDAYEVENT:TRUE
SUMMARY:Cabela's Hometown Heroes Event
DESCRIPTION:Cabela's will be honoring those who serve with their Hometown Heroes Celebration beginning on Saturday\, November 8th and running through Veterans Day\, Tuesday\, November 11th. The Hometown Heroes event will recognize the sacrifice and dedication of those who protect and serve our country and communities every day. To participate in this event\, veterans and activity duty military\, reserve\, law enforcement\, fire and EMS personnel should present their service identification upon checkout during the event.
X-ALT-DESC;FMTTYPE=text/html:Cabela&#39\;s will be honoring those who serve with their Hometown Heroes Celebration beginning on Saturday\, November 8th&nbsp\;and running through Veterans Day\, Tuesday\, November 11th. The Hometown Heroes event will recognize the sacrifice and dedication of those who protect and serve our country and communities every day. To participate in this event\, veterans and activity duty military\, reserve\, law enforcement\, fire and EMS personnel should present their service identification upon checkout during the event.
LOCATION:Cabela's 3600 E Hwy 30 Kearney\, NE
UID:e.1404.5406
SEQUENCE:3
DTSTAMP:20260423T051235Z
URL:https://members.kearneycoc.org/events/details/cabela-s-hometown-heroes-event-11-08-2014-5406
END:VEVENT

END:VCALENDAR
