BEGIN:VCALENDAR
VERSION:2.0
PRODID:-//ChamberMaster//Event Calendar 2.0//EN
METHOD:PUBLISH
X-PUBLISHED-TTL:P3D
REFRESH-INTERVAL:P3D
CALSCALE:GREGORIAN
BEGIN:VEVENT
DTSTART:20130406T140000Z
DTEND:20130406T180000Z
X-MICROSOFT-CDO-ALLDAYEVENT:FALSE
SUMMARY:Cabela's Ladies' Day Out
DESCRIPTION:All event times and details at www.Cabelas.com/Kearney\n\nLots of fun free seminars\, drawings and discounts.  Learn about gun safety\, how to choose tackle for your next fishing trip\, which kayak is right for you and find buried treasure will a metal detector. Also learn about outdoor events in your area and ways to connect with women with your same interests.
X-ALT-DESC;FMTTYPE=text/html:<strong><span style="color:#333333\;"><span style="font-family:arial\,sans-serif\;">All event times and details at <a href="http://www.Cabelas.com/Kearney">www.Cabelas.com/Kearney</a></span></span></strong><br />\n<span style="color:#333333\;"><span style="font-family:arial\,sans-serif\;">Lots of fun free seminars\, drawings and discounts.&nbsp\; Learn about gun safety\, how to choose tackle for your next fishing trip\, which kayak is right for you and find buried treasure will a metal detector. Also learn about outdoor events in your area and ways to connect with women with your same interests.&nbsp\;</span></span><br />\n
LOCATION:3600 E Hwy 30\, Kearney\, NE 68847
UID:e.1404.2260
SEQUENCE:3
DTSTAMP:20260424T122602Z
URL:https://members.kearneycoc.org/events/details/cabela-s-ladies-day-out-04-06-2013-2260
END:VEVENT

END:VCALENDAR
