BEGIN:VCALENDAR
VERSION:2.0
PRODID:-//ChamberMaster//Event Calendar 2.0//EN
METHOD:PUBLISH
X-PUBLISHED-TTL:P3D
REFRESH-INTERVAL:P3D
CALSCALE:GREGORIAN
BEGIN:VEVENT
DTSTART:20120811T150000Z
DTEND:20120812T190000Z
X-MICROSOFT-CDO-ALLDAYEVENT:FALSE
SUMMARY:Cabela's Olympics
DESCRIPTION:Cabela's Olympics\nEvery Saturday and Sunday  \n\nJuly 28th - August 12th\n\n10:00am-2:00pm   \n\n\n	Cabela's\, 3600 E Hwy 30\nAll Children 12 and under are invited for fun challenges including water balloon shot put\, fish casting\, air soft shooting and archery. Learn about new outdoor activities and get to be a part of the Summer Games!
X-ALT-DESC;FMTTYPE=text/html:<div>\n	<strong><span style="color:#0b3758\;"><span style="font-family:arial\,sans-serif\;">Cabela&#39\;s Olympics</span></span></strong></div>\n<span style="font-family:arial\,sans-serif\;">Every Saturday and Sunday &nbsp\;</span><br />\n<span style="font-family:arial\,sans-serif\;">July 28th - August 12th</span><br />\n<span style="font-family:arial\,sans-serif\;">10:00am-2:00pm&nbsp\; &nbsp\;</span><br />\n<div>\n	<span style="font-family:arial\,sans-serif\;">Cabela&#39\;s\, 3600 E Hwy 30</span></div>\n<span style="font-family:arial\,sans-serif\;">All Children 12 and under are invited for fun challenges including water balloon shot put\, fish casting\, air soft shooting and archery. Learn about new outdoor activities and get to be a part of the Summer Games!</span> 
LOCATION:
UID:e.1404.2174
SEQUENCE:3
DTSTAMP:20260425T015146Z
URL:https://members.kearneycoc.org/events/details/cabela-s-olympics-08-11-2012-2174
END:VEVENT

END:VCALENDAR
