BEGIN:VCALENDAR
VERSION:2.0
PRODID:-//ChamberMaster//Event Calendar 2.0//EN
METHOD:PUBLISH
X-PUBLISHED-TTL:P3D
REFRESH-INTERVAL:P3D
CALSCALE:GREGORIAN
BEGIN:VEVENT
DTSTART:20190314T170000Z
DTEND:20190314T180000Z
X-MICROSOFT-CDO-ALLDAYEVENT:FALSE
SUMMARY:CANCELED - Hospitality Committee Meeting
DESCRIPTION:Chair: David Holl - Country Inn & Suites and Microtel Inn & Suites\n\nVice Chair: Judy Rozema - Kearney Community Theater\n\nMeeting Schedule: 2nd Thursday of each month at Noon\nThe Kearney Hospitality Group's purpose is to increase the number of visitors to Kearney by marketing retail and tourism opportunities for conventions\, festivals\, and special events.\n\n\n\nThe Kearney Hospitality Group does this by assisting other Chamber Committees with facilitating marketing communication of the Kearney area and providing input to the Kearney Visitor's Bureau.\n\n\n\nThis committee is open to all Kearney Chamber Members. To inquire about joining this group\, contact Neva Klemme at nklemme@kearneycoc.org\, or join us for one of our meetings.
X-ALT-DESC;FMTTYPE=text/html:<div style="color: rgb(0\, 0\, 0)\; font-family: Helvetica\, Arial\, sans-serif\;">\n<p><span style="font-size:12px\;"><b>Chair:&nbsp\;</b><span style="color:black\;"><span style="font-family:helvetica\,sans-serif\;">David Holl - Country Inn &amp\; Suites and Microtel Inn &amp\; Suites</span></span><br />\n<strong>Vice Chair:</strong> Judy Rozema - Kearney Community Theater<br />\n<b>Meeting Schedule:</b>&nbsp\;2nd Thursday of each month at Noon</span></p>\nThe Kearney Hospitality Group&rsquo\;s purpose is to increase the number of visitors to Kearney by marketing retail and tourism opportunities for conventions\, festivals\, and special events.<br />\n<br />\nThe Kearney Hospitality Group does this by assisting other Chamber Committees with facilitating marketing communication of the Kearney area and providing input to the Kearney Visitor&rsquo\;s Bureau.<br />\n<br />\nThis committee is open to all Kearney Chamber Members. To inquire about joining this group\, contact Neva Klemme at <a href="mailto:sschulte@kearneycoc.org" style="color: rgb(0\, 51\, 102)\; text-decoration: none\;">nklemme@kearneycoc.org</a>\,&nbsp\;or join us for one of our meetings.&nbsp\;</div>\n\n<div style="color: rgb(0\, 0\, 0)\; font-family: Helvetica\, Arial\, sans-serif\;">&nbsp\;</div>\n
LOCATION:Kearney Area Chamber of Commerce
UID:e.1404.5490
SEQUENCE:3
DTSTAMP:20260426T033406Z
URL:https://members.kearneycoc.org/events/details/canceled-hospitality-committee-meeting-5490
END:VEVENT

END:VCALENDAR
