BEGIN:VCALENDAR
VERSION:2.0
PRODID:-//ChamberMaster//Event Calendar 2.0//EN
METHOD:PUBLISH
X-PUBLISHED-TTL:P3D
REFRESH-INTERVAL:P3D
CALSCALE:GREGORIAN
BEGIN:VEVENT
DTSTART:20200806T220000Z
DTEND:20200807T000000Z
X-MICROSOFT-CDO-ALLDAYEVENT:FALSE
SUMMARY:CANCELED - VIP - Computer Hardware
DESCRIPTION:Join us for a Very Important Party for Computer Hardware! They are celebrating 40 years in business!
X-ALT-DESC;FMTTYPE=text/html:Join us for a Very Important Party for <a href="https://www.computerhardwareinc.com/store-locations/kearney/">Computer Hardware</a>! They are celebrating 40 years in business!
LOCATION:2315 2nd Ave.
UID:e.1404.18396
SEQUENCE:3
DTSTAMP:20260425T002028Z
URL:https://members.kearneycoc.org/events/details/canceled-vip-computer-hardware-18396
END:VEVENT

END:VCALENDAR
