BEGIN:VCALENDAR
VERSION:2.0
PRODID:-//ChamberMaster//Event Calendar 2.0//EN
METHOD:PUBLISH
X-PUBLISHED-TTL:P3D
REFRESH-INTERVAL:P3D
CALSCALE:GREGORIAN
BEGIN:VEVENT
DTSTART:20150313T150000Z
DTEND:20150313T160000Z
X-MICROSOFT-CDO-ALLDAYEVENT:FALSE
SUMMARY:Candidate Recruitment Meeting
DESCRIPTION:Please join the State Chamber and the Kearney Area Chamber for a candidate recruitment meeting. With Speaker Hadley having only two years remaining in his term on the Legislature\, it is time to start thinking about who will replace him. Please invite any potential candidates to attend with you.
X-ALT-DESC;FMTTYPE=text/html:Please join the State Chamber and the Kearney Area Chamber for a candidate recruitment meeting. With Speaker Hadley having only two years remaining in his term on the Legislature\, it is time to start thinking about who will replace him. Please invite any potential candidates to attend with you.&nbsp\;
LOCATION:Kearney Area Chamber of Commerce Meeting room 1007 Second Avenue Kearney\, NE 68847
UID:e.1404.6164
SEQUENCE:3
DTSTAMP:20260422T225627Z
URL:https://members.kearneycoc.org/events/details/candidate-recruitment-meeting-03-13-2015-6164
END:VEVENT

END:VCALENDAR
