BEGIN:VCALENDAR
VERSION:2.0
PRODID:-//ChamberMaster//Event Calendar 2.0//EN
METHOD:PUBLISH
X-PUBLISHED-TTL:P3D
REFRESH-INTERVAL:P3D
CALSCALE:GREGORIAN
BEGIN:VEVENT
DTSTART:20161120T190000Z
DTEND:20161120T220000Z
X-MICROSOFT-CDO-ALLDAYEVENT:FALSE
SUMMARY:Candy Cane Parade
DESCRIPTION:Welcome Santa to town with the Candy Cane Parade at Hilltop Mall. The community event takes place from 1-4 with various children's activities throughout including gingerbread house decorating\, cupcake decorating\, ornament making\, and pretzel rolling before Santa's arrival\, and a reindeer and friends petting zoo from 1-4. Santa arrives at 2:30 and is followed by the Candy Cane parade and story time with Santa. Visit our website for more information.
X-ALT-DESC;FMTTYPE=text/html:Welcome Santa to town with the Candy Cane Parade at Hilltop Mall. The community event takes place from 1-4 with various children&#39\;s activities throughout including gingerbread house decorating\, cupcake decorating\, ornament making\, and pretzel rolling before Santa&#39\;s arrival\, and a reindeer and friends petting zoo from 1-4. Santa arrives at 2:30 and is followed by the Candy Cane parade and story time with Santa. Visit our website for more information.
LOCATION:Hilltop Mall 5011 2nd Ave Kearney NE 68847
UID:e.1404.9083
SEQUENCE:3
DTSTAMP:20260421T101454Z
URL:https://members.kearneycoc.org/events/details/candy-cane-parade-9083
END:VEVENT

END:VCALENDAR
