BEGIN:VCALENDAR
VERSION:2.0
PRODID:-//ChamberMaster//Event Calendar 2.0//EN
METHOD:PUBLISH
X-PUBLISHED-TTL:P3D
REFRESH-INTERVAL:P3D
CALSCALE:GREGORIAN
BEGIN:VEVENT
DTSTART:20211013T140000Z
DTEND:20211013T170000Z
X-MICROSOFT-CDO-ALLDAYEVENT:FALSE
SUMMARY:Career Exploration Day!
DESCRIPTION:Career Exploration Day 2021\n\n\n\nAt the exploration day\, students will have the opportunity to explore careers by participating in a variety of hands-on\, interactive activites and informaiton gathering in different career fields. Demonstrators will explain the skills\, training requirements\, wage rage and satisfaction found in their careers. Students will also be able to visit with colleges and universities that provide the training in their area of interest.\n\n\n\nIf your business or organization would like to have a booth at Career Exploration Day\, please contact Heather Ullman\, hullman@kearneycoc.org or 308-237-3101.
X-ALT-DESC;FMTTYPE=text/html:Career Exploration Day 2021<br />\n<br />\nAt the exploration day\, students will have the opportunity to explore careers by participating in a variety of hands-on\, interactive activites and informaiton gathering in different career fields. Demonstrators will explain the skills\, training requirements\, wage rage and satisfaction found in their careers. Students will also be able to visit with colleges and universities that provide the training in their area of interest.<br />\n<br />\nIf your business or organization would like to have a booth at Career Exploration Day\, please contact Heather Ullman\, hullman@kearneycoc.org or 308-237-3101.
LOCATION:Nebraska National Guard Armory 5710 Airport Road Kearney
UID:e.1404.19366
SEQUENCE:3
DTSTAMP:20260423T232345Z
URL:https://members.kearneycoc.org/events/details/career-exploration-day-19366
END:VEVENT

END:VCALENDAR
