BEGIN:VCALENDAR
VERSION:2.0
PRODID:-//ChamberMaster//Event Calendar 2.0//EN
METHOD:PUBLISH
X-PUBLISHED-TTL:P3D
REFRESH-INTERVAL:P3D
CALSCALE:GREGORIAN
BEGIN:VEVENT
DTSTART;VALUE=DATE:20191216
DTEND;VALUE=DATE:20191218
TRANSP:TRANSPARENT
X-MICROSOFT-CDO-ALLDAYEVENT:TRUE
SUMMARY:Cattle Confinement Symposium
DESCRIPTION:Cattle Confinement Symposium\n\nAre you considering an expansion of your cattle operation?  Are you looking for a revenue source within the beef industry that will allow the next generation a chance to come back to the farm? With less grazing land available\, increased cost of land ownership\, permitting challenges and surplus feedstuffs in the cornbelt\; now may be the time to consider a cattle con nement or semi-con nement facility.  This symposium is designed to allow you the chance to gain the insight needed to consider cow-calf con nement as a viable beef production model for the future.\n\n\n\nFor more information\, visit the links above or contact Will Keech at willk@a-fan.org or 402-421-4472
X-ALT-DESC;FMTTYPE=text/html:<a href="https://chambermaster.blob.core.windows.net/userfiles/UserFiles/chambers/1404/File/NECattleConfinementSymposium-Flyer-Agenda4.pdf">Cattle Confinement Symposium</a><br />\nAre you considering an expansion of your cattle operation?&nbsp\; Are you looking for a revenue source within the beef industry that will allow the next generation a chance to come back to the farm? With less grazing land available\, increased cost of land ownership\, permitting challenges and surplus feedstuffs in the cornbelt\; now may be the time to consider a cattle con&#64257\;nement or semi-con&#64257\;nement facility.&nbsp\; This symposium is designed to allow you the chance to gain the insight needed to consider cow-calf con&#64257\;nement as a viable beef production model for the future.<br />\n<br />\nFor more information\, visit the links above or contact Will Keech at <a href="mailto:willk@a-fan.org">willk@a-fan.org</a> or 402-421-4472
LOCATION:Younes Conference Center 416 Talmadge Rd Kearney\, NE
UID:e.1404.18238
SEQUENCE:3
DTSTAMP:20260425T130820Z
URL:https://members.kearneycoc.org/events/details/cattle-confinement-symposium-18238
END:VEVENT

END:VCALENDAR
