BEGIN:VCALENDAR
VERSION:2.0
PRODID:-//ChamberMaster//Event Calendar 2.0//EN
METHOD:PUBLISH
X-PUBLISHED-TTL:P3D
REFRESH-INTERVAL:P3D
CALSCALE:GREGORIAN
BEGIN:VEVENT
DTSTART:20160405T210000Z
DTEND:20160405T230000Z
X-MICROSOFT-CDO-ALLDAYEVENT:FALSE
SUMMARY:Celebration for being voted the Best Assisted Living Community
DESCRIPTION:Thank You\, Kearney! For voting us Best Assisting Living Community! Homestead Assisted Living is having a celebration join us April 5th 4-6pm for hors d'oeuvres &cocktails.
X-ALT-DESC;FMTTYPE=text/html:Thank You\, Kearney! For voting us Best Assisting Living Community! Homestead Assisted Living is having a celebration join us April 5th 4-6pm for hors d&#39\;oeuvres &amp\;cocktails.
LOCATION:Homestead Assisted Living 4205 6th Avenue Kearney\, NE
UID:e.1404.8569
SEQUENCE:3
DTSTAMP:20260421T234252Z
URL:https://members.kearneycoc.org/events/details/celebration-for-being-voted-the-best-assisted-living-community-04-05-2016-8569
END:VEVENT

END:VCALENDAR
