BEGIN:VCALENDAR
VERSION:2.0
PRODID:-//ChamberMaster//Event Calendar 2.0//EN
METHOD:PUBLISH
X-PUBLISHED-TTL:P3D
REFRESH-INTERVAL:P3D
CALSCALE:GREGORIAN
BEGIN:VEVENT
DTSTART:20140329T200000Z
DTEND:20140330T020000Z
X-MICROSOFT-CDO-ALLDAYEVENT:FALSE
SUMMARY:Celebration of Flight
DESCRIPTION:Heather Henson will present a Celebration of Flight. \n\n\n\nFLIGHT: A Crane's Story explores natures deepest mysteries and spiritual essence of a crane's life cycle.
X-ALT-DESC;FMTTYPE=text/html:Heather Henson will present a Celebration of Flight.&nbsp\;<br />\n<br />\nFLIGHT: A Crane&#39\;s Story explores natures deepest mysteries and spiritual essence of a crane&#39\;s life cycle.&nbsp\;
LOCATION:Merryman Performing Arts Center 225 W. 22nd St. Kearney\, NE 68845
UID:e.1404.4432
SEQUENCE:3
DTSTAMP:20260423T180354Z
URL:https://members.kearneycoc.org/events/details/celebration-of-flight-03-29-2014-4432
END:VEVENT

END:VCALENDAR
