BEGIN:VCALENDAR
VERSION:2.0
PRODID:-//ChamberMaster//Event Calendar 2.0//EN
METHOD:PUBLISH
X-PUBLISHED-TTL:P3D
REFRESH-INTERVAL:P3D
CALSCALE:GREGORIAN
BEGIN:VEVENT
DTSTART:20121030T230000Z
DTEND:20121030T230000Z
X-MICROSOFT-CDO-ALLDAYEVENT:FALSE
SUMMARY:Celebration of GIving - Kearney Area Community Foundation
DESCRIPTION:The Kearney Area Community Foundation (KACF) is hosting their seventh annual "Celebration of Giving" award dinner on Tuesday\, October 30\, 2012 at the  Younes Center.  Recipients are honored for significant charitable contributions to the Kearney area.  Kearney Area Community Foundation honors generous individuals\, families\, and businesses in the Kearney area each year in the categories of Philanthropist\,  Volunteer\, and Corporate.    This year's winners are Scott D. Morris\, Dan & Julie Speirs and Runza Restaurants of Kearney.
X-ALT-DESC;FMTTYPE=text/html:<span style="font-family: 'verdana'\, 'sans-serif'\; color: black\; font-size: 12pt\; mso-fareast-font-family: calibri\; mso-fareast-theme-font: minor-latin\; mso-bidi-font-family: 'times new roman'\; mso-ansi-language: en-us\; mso-fareast-language: en-us\; mso-bidi-language: ar-sa">The Kearney Area Community Foundation (KACF) is hosting their seventh annual &ldquo\;Celebration of Giving&rdquo\; award dinner on Tuesday\, October 30\, 2012 at the&nbsp\; Younes Center.&nbsp\; Recipients are honored for significant charitable contributions to the Kearney area.&nbsp\; Kearney Area Community Foundation honors generous individuals\, families\, and businesses in the Kearney area each year in the categories of Philanthropist\,&nbsp\; Volunteer\, and Corporate.&nbsp\;&nbsp\;&nbsp\; This year&#39\;s winners are Scott D. Morris\, Dan &amp\; Julie Speirs and Runza Restaurants of Kearney.</span>
LOCATION:Younes Conference Center
UID:e.1404.2205
SEQUENCE:3
DTSTAMP:20260424T223840Z
URL:https://members.kearneycoc.org/events/details/celebration-of-giving-kearney-area-community-foundation-10-30-2012-2205
END:VEVENT

END:VCALENDAR
