BEGIN:VCALENDAR
VERSION:2.0
PRODID:-//ChamberMaster//Event Calendar 2.0//EN
METHOD:PUBLISH
X-PUBLISHED-TTL:P3D
REFRESH-INTERVAL:P3D
CALSCALE:GREGORIAN
BEGIN:VEVENT
DTSTART:20190518T130000Z
DTEND:20190518T170000Z
X-MICROSOFT-CDO-ALLDAYEVENT:FALSE
SUMMARY:Centennial Neighborhood CleanUp
DESCRIPTION:Centennial Neighborhood will be holding a neighborhood cleanup. Please bring lawn clippings\, small branches\, and anything you need to throw away. No concrete\, chemicals\, paint\, oil or tires on rims. Limited volunteers\, self service.
X-ALT-DESC;FMTTYPE=text/html:Centennial Neighborhood will be holding a neighborhood cleanup. Please bring lawn clippings\, small branches\, and anything you need to throw away. No concrete\, chemicals\, paint\, oil or tires on rims. Limited volunteers\, self service.
LOCATION:Centennial Pool Parking Lot
UID:e.1404.15976
SEQUENCE:3
DTSTAMP:20260426T004541Z
URL:https://members.kearneycoc.org/events/details/centennial-neighborhood-cleanup-15976
END:VEVENT

END:VCALENDAR
