BEGIN:VCALENDAR
VERSION:2.0
PRODID:-//ChamberMaster//Event Calendar 2.0//EN
METHOD:PUBLISH
X-PUBLISHED-TTL:P3D
REFRESH-INTERVAL:P3D
CALSCALE:GREGORIAN
BEGIN:VEVENT
DTSTART:20141011T121500Z
DTEND:20141011T150000Z
X-MICROSOFT-CDO-ALLDAYEVENT:FALSE
SUMMARY:Central Nebraska Race for the Cure
DESCRIPTION:One in eight women will be diagnosed with breast cancer in her lifetime.  Many of us know someone affected with the disease ? within our family\, our friends\, at work or within our community.  Help us end breast cancer forever by joining us at the Race for the Cure on Saturday\, October 11 on the University of Kearney campus! Money raised stays local to help those with breast cancer. Run\, walk or simply come to show your support for women who have or will face breast cancer.  Visit komennebraska.org to register or email race@komennebraska.org.
X-ALT-DESC;FMTTYPE=text/html:One in eight women will be diagnosed with breast cancer in her lifetime. &nbsp\;Many of us know someone affected with the disease ? within our family\, our friends\, at work or within our community. &nbsp\;Help us end breast cancer forever by joining us at the Race for the Cure on Saturday\, October 11 on the University of Kearney campus! Money raised stays local to help those with breast cancer. Run\, walk or simply come to show your support for women who have or will face breast cancer. &nbsp\;Visit komennebraska.org to register or email race@komennebraska.org.
LOCATION:University of Nebraska- Kearney
UID:e.1404.5310
SEQUENCE:3
DTSTAMP:20260423T051240Z
URL:https://members.kearneycoc.org/events/details/central-nebraska-race-for-the-cure-10-11-2014-5310
END:VEVENT

END:VCALENDAR
