BEGIN:VCALENDAR
VERSION:2.0
PRODID:-//ChamberMaster//Event Calendar 2.0//EN
METHOD:PUBLISH
X-PUBLISHED-TTL:P3D
REFRESH-INTERVAL:P3D
CALSCALE:GREGORIAN
BEGIN:VEVENT
DTSTART:20200720T233000Z
DTEND:20200721T003000Z
X-MICROSOFT-CDO-ALLDAYEVENT:FALSE
SUMMARY:Central Nebraska Virtual Property Tax Town Hall
DESCRIPTION:From the Tri-Cities to Lexington and everywhere in between\, voters and property taxpayers will have the floor in this online forum about Nebraska's property tax issue. After registering\, you will receive a confirmation email with more information about how you can share your questions\, ideas\, and stories in this interactive event. In addition to having the option to appear in the Virtual Town Hall\, all attendees can vote in online polls about property tax issues throughout the program.
X-ALT-DESC;FMTTYPE=text/html:From the Tri-Cities to Lexington and everywhere in between\, voters and property taxpayers will have the floor in this online forum about Nebraska&rsquo\;s property tax issue. After registering\, you will receive a confirmation email with more information about how you can share your questions\, ideas\, and stories in this interactive event. In addition to having the option to appear in the Virtual Town Hall\, all attendees can vote in online polls about property tax issues throughout the program.
LOCATION:Online\, Zoom Webinars
UID:e.1404.18652
SEQUENCE:3
DTSTAMP:20260425T033159Z
URL:https://members.kearneycoc.org/events/details/central-nebraska-virtual-property-tax-town-hall-18652
END:VEVENT

END:VCALENDAR
