BEGIN:VCALENDAR
VERSION:2.0
PRODID:-//ChamberMaster//Event Calendar 2.0//EN
METHOD:PUBLISH
X-PUBLISHED-TTL:P3D
REFRESH-INTERVAL:P3D
CALSCALE:GREGORIAN
BEGIN:VEVENT
DTSTART:20210330T130000Z
DTEND:20210330T133000Z
X-MICROSOFT-CDO-ALLDAYEVENT:FALSE
SUMMARY:Chamber Congress Chats
DESCRIPTION:We are working hard to be more engaged with our federal delegation and better understand what is going on in DC. That is why the Chamber Congress Chats were created to provide you and your business information at the national level that could affect you doing business. \n\n \n\nThis Zoom call is open to you and is an excellent opportunity to stay informed and advocate for your membership at the federal level. Thank you to McCook Chamber of Commerce and Aurora Chamber of Commerce for partnering with us on this webinar series and Olsson for their sponsorship of this programming. \n\n \n\nContact Derek Rusher (drusher@kearneycoc.org) for more information.
X-ALT-DESC;FMTTYPE=text/html:<div style="color: rgb(64\, 63\, 66)\; font-family: Arial\, Verdana\, Helvetica\, sans-serif\; font-size: 14px\; white-space: pre-wrap\; text-align: center\;"><span style="font-size: 12px\; color: rgb(118\, 118\, 118)\;">We are working hard to be more engaged with our federal delegation and better understand what is going on in DC. That is why the Chamber Congress Chats were created to provide you and your business information at the national level that could affect you doing business.&nbsp\;</span></div>\n\n<div style="color: rgb(64\, 63\, 66)\; font-family: Arial\, Verdana\, Helvetica\, sans-serif\; font-size: 14px\; white-space: pre-wrap\; text-align: center\;">&nbsp\;</div>\n\n<div style="color: rgb(64\, 63\, 66)\; font-family: Arial\, Verdana\, Helvetica\, sans-serif\; font-size: 14px\; white-space: pre-wrap\; text-align: center\;"><span style="font-size: 12px\; color: rgb(118\, 118\, 118)\;">This Zoom call is open to you and is an excellent opportunity to stay informed and advocate for your membership at the federal level. Thank you to McCook Chamber of Commerce and Aurora Chamber of Commerce for partnering with us on this webinar series and Olsson for their sponsorship of this programming.&nbsp\;</span></div>\n\n<div style="color: rgb(64\, 63\, 66)\; font-family: Arial\, Verdana\, Helvetica\, sans-serif\; font-size: 14px\; white-space: pre-wrap\; text-align: center\;">&nbsp\;</div>\n\n<div style="color: rgb(64\, 63\, 66)\; font-family: Arial\, Verdana\, Helvetica\, sans-serif\; font-size: 14px\; white-space: pre-wrap\; text-align: center\;"><span style="font-size: 12px\; color: rgb(118\, 118\, 118)\;">Contact Derek Rusher (</span><a href="http://r20.rs6.net/tn.jsp?f=001WxhJWqt6olX84AlfzAXdSQ64HEBV1-Rzc6DV0uqkC7MMoPa-8OZmi0PkPq2xb8KXdo-3BW90LdpDP9X6pD_-GcDHTjuoIkuaOxYj4kFqFo5GOhf2ZzrbNIdgiOHdRqjD8-A8ZH57Qmk23Y3JmsNfH_Mlf6iT0aqy&amp\;c=2xOeTTlXLLrUAt6Ed3tOY9q2s_JjkfBEBpCbdG7lMzZaIwiQs6e3Cg==&amp\;ch=4FoOYiOdxgtKr5XRvzjGkJG-GKuGK0y5hN4Nonqw69sh6d6eQjnJfA==" rel="noopener noreferrer" style="color: rgb(241\, 90\, 34)\; font-size: 12px\;" target="_blank">drusher@kearneycoc.org</a><span style="font-size: 12px\; color: rgb(118\, 118\, 118)\;">) for more information.</span></div>\n
LOCATION:
UID:e.1404.19261
SEQUENCE:3
DTSTAMP:20260424T140318Z
URL:https://members.kearneycoc.org/events/details/chamber-congress-chats-19261
END:VEVENT

END:VCALENDAR
