BEGIN:VCALENDAR
VERSION:2.0
PRODID:-//ChamberMaster//Event Calendar 2.0//EN
METHOD:PUBLISH
X-PUBLISHED-TTL:P3D
REFRESH-INTERVAL:P3D
CALSCALE:GREGORIAN
BEGIN:VEVENT
DTSTART;VALUE=DATE:20140404
DTEND;VALUE=DATE:20140405
TRANSP:TRANSPARENT
X-MICROSOFT-CDO-ALLDAYEVENT:TRUE
SUMMARY:Chamber Day!
DESCRIPTION:We are excited to kick off our 2014 Chamber Day! The event will take place April 4th\, from 8:00-5:00pm.\n\nIf you aren't familiar with Chamber Day\, this is our Annual Event where we will deliver your 2014 Membership Directory and window cling! This is our opportunity to get out and visit our members.\n\nThis is also a great opportunity to volunteer\, we are looking for volunteers all day Friday\, April 4th. Lunch will be provided to those that volunteer\, please RSVP so we can get a count.\n\nContact Jennie Nollette at 308-237-3168 or jnollette@kearneycoc.org if you are interested in volunteering!
X-ALT-DESC;FMTTYPE=text/html:We are excited to kick off our 2014 Chamber Day! The event will take place April 4<sup>th</sup>\, from 8:00-5:00pm.<br />\nIf you aren&rsquo\;t familiar with Chamber Day\, this is our Annual Event where we will deliver your 2014 Membership Directory and window cling! This is our opportunity to get out and visit our members.<br />\nThis is also a great opportunity to volunteer\, we are looking for volunteers all day Friday\, April 4<sup>th</sup>. Lunch will be provided to those that volunteer\, please RSVP so we can get a count.<br />\nContact Jennie Nollette at 308-237-3168 or <a href="mailto:jnollette@kearneycoc.org">jnollette@kearneycoc.org</a> if you are interested in volunteering!&nbsp\; &nbsp\;
LOCATION:
UID:e.1404.4433
SEQUENCE:3
DTSTAMP:20260423T145519Z
URL:https://members.kearneycoc.org/events/details/chamber-day-04-04-2014-4433
END:VEVENT

END:VCALENDAR
