BEGIN:VCALENDAR
VERSION:2.0
PRODID:-//ChamberMaster//Event Calendar 2.0//EN
METHOD:PUBLISH
X-PUBLISHED-TTL:P3D
REFRESH-INTERVAL:P3D
CALSCALE:GREGORIAN
BEGIN:VEVENT
DTSTART:20160629T140000Z
DTEND:20160629T230000Z
X-MICROSOFT-CDO-ALLDAYEVENT:FALSE
SUMMARY:Chamber Day!
DESCRIPTION:This is an annual event where staff and Chamber volunteers go out and visit Chamber member businesses to deliver the 2016 Membership Directory and 2016 Window Clings!  This is a great opportunity to volunteer and introduce yourself and your business to other Chamber members. This event lasts all day and ends with a Mixer with food\, refreshments and door prizes from 4-6pm.
X-ALT-DESC;FMTTYPE=text/html:This is an annual event where staff and Chamber volunteers go out and visit Chamber member businesses to deliver the 2016 Membership Directory and 2016&nbsp\;Window Clings! &nbsp\;This is a great opportunity to volunteer and introduce yourself and your business to other Chamber members. This event lasts all day and ends with a Mixer with food\, refreshments and door prizes from 4-6pm.&nbsp\;
LOCATION:Kearney Area Chamber of Commerce 1007 2nd Avenue
UID:e.1404.8724
SEQUENCE:3
DTSTAMP:20260421T184407Z
URL:https://members.kearneycoc.org/events/details/chamber-day-06-29-2016-8724
END:VEVENT

END:VCALENDAR
