BEGIN:VCALENDAR
VERSION:2.0
PRODID:-//ChamberMaster//Event Calendar 2.0//EN
METHOD:PUBLISH
X-PUBLISHED-TTL:P3D
REFRESH-INTERVAL:P3D
CALSCALE:GREGORIAN
BEGIN:VEVENT
DTSTART:20200211T150000Z
DTEND:20200211T210000Z
X-MICROSOFT-CDO-ALLDAYEVENT:FALSE
SUMMARY:Chamber Day!!
DESCRIPTION:This is an annual event where staff and Chamber volunteers go out and visit Chamber member businesses to deliver the 2020 Window Clings and 2020 Membership Directory! This is a great opportunity to volunteer and introduce yourself and your business to other Chamber members. Please contact Shanna Schulte\, sschulte@kearneycoc.org to sign up!
X-ALT-DESC;FMTTYPE=text/html:This is an annual event where staff and Chamber volunteers go out and visit Chamber member businesses to deliver the 2020 Window Clings and 2020 Membership Directory! This is a great opportunity to volunteer and introduce yourself and your business to other Chamber members. Please contact Shanna Schulte\, <a href="mailto:sschulte@kearneycoc.org">sschulte@kearneycoc.org</a> to sign up!
LOCATION:Pick up 2020 Chamber Day packets in the Chamber Board Room 1007 2nd Ave.
UID:e.1404.18302
SEQUENCE:3
DTSTAMP:20260425T112435Z
URL:https://members.kearneycoc.org/events/details/chamber-day-18302
END:VEVENT

END:VCALENDAR
