BEGIN:VCALENDAR
VERSION:2.0
PRODID:-//ChamberMaster//Event Calendar 2.0//EN
METHOD:PUBLISH
X-PUBLISHED-TTL:P3D
REFRESH-INTERVAL:P3D
CALSCALE:GREGORIAN
BEGIN:VEVENT
DTSTART:20160304T200000Z
DTEND:20160305T000000Z
X-MICROSOFT-CDO-ALLDAYEVENT:FALSE
SUMMARY:Chamber Day at the Races sponsored by Associated Staffing
DESCRIPTION:Come join us for the this annual event! Celebrating Associated Staffing 20th anniversary with a Day at the Races!
X-ALT-DESC;FMTTYPE=text/html:Come join us for the this annual event! Celebrating Associated Staffing 20th&nbsp\;anniversary with a Day at the Races!
LOCATION:Fonner Park 700 E Stolley Park Rd. Grand Island
UID:e.1404.7229
SEQUENCE:3
DTSTAMP:20260422T012344Z
URL:https://members.kearneycoc.org/events/details/chamber-day-at-the-races-sponsored-by-associated-staffing-03-04-2016-7229
END:VEVENT

END:VCALENDAR
