BEGIN:VCALENDAR
VERSION:2.0
PRODID:-//ChamberMaster//Event Calendar 2.0//EN
METHOD:PUBLISH
X-PUBLISHED-TTL:P3D
REFRESH-INTERVAL:P3D
CALSCALE:GREGORIAN
BEGIN:VEVENT
DTSTART:20160229T220000Z
DTEND:20160301T010000Z
X-MICROSOFT-CDO-ALLDAYEVENT:FALSE
SUMMARY:Chamber Leap Day Mix & Mingle
DESCRIPTION:Join us at the Chamber for a celebration of Leap Year 2016! Take a leap with us and join us for networking\, snacks and beverages!!
X-ALT-DESC;FMTTYPE=text/html:Join us at the Chamber for a celebration of Leap Year 2016! Take a leap with us and join us for networking\, snacks and beverages!!&nbsp\;
LOCATION:Kearney Area Chamber of Commerce 1007 Second Avenue Kearney\, NE
UID:e.1404.7480
SEQUENCE:3
DTSTAMP:20260422T012147Z
URL:https://members.kearneycoc.org/events/details/chamber-leap-day-mix-mingle-02-29-2016-7480
END:VEVENT

END:VCALENDAR
