BEGIN:VCALENDAR
VERSION:2.0
PRODID:-//ChamberMaster//Event Calendar 2.0//EN
METHOD:PUBLISH
X-PUBLISHED-TTL:P3D
REFRESH-INTERVAL:P3D
CALSCALE:GREGORIAN
BEGIN:VEVENT
DTSTART:20140111T233000Z
DTEND:20140112T040000Z
X-MICROSOFT-CDO-ALLDAYEVENT:FALSE
SUMMARY:Chamber Night at Storm Hockey
DESCRIPTION:Enjoy live music from the 80's tribute band: "3D In Your Face." Chamber members will be invited to a special pre-game party starting at 5:30pm with a Hockey 101 Session. It's also Dollar-Beer Night! Plus\, $2 from each ticket purchased will be donated back for Chamber fundraising efforts.
X-ALT-DESC;FMTTYPE=text/html:Enjoy live music from the 80&#39\;s tribute band: &quot\;3D In Your Face.&quot\; Chamber members will be invited to a special pre-game party starting at 5:30pm with a Hockey 101 Session. It&#39\;s also Dollar-Beer Night! Plus\, $2 from each ticket purchased will be donated back for Chamber fundraising efforts.&nbsp\;
LOCATION:Viaero Event Center 609 Platte RD. Kearney\, Ne
UID:e.1404.3352
SEQUENCE:3
DTSTAMP:20260423T212824Z
URL:https://members.kearneycoc.org/events/details/chamber-night-at-storm-hockey-01-11-2014-3352
END:VEVENT

END:VCALENDAR
