BEGIN:VCALENDAR
VERSION:2.0
PRODID:-//ChamberMaster//Event Calendar 2.0//EN
METHOD:PUBLISH
X-PUBLISHED-TTL:P3D
REFRESH-INTERVAL:P3D
CALSCALE:GREGORIAN
BEGIN:VEVENT
DTSTART:20160804T130000Z
DTEND:20160804T180000Z
X-MICROSOFT-CDO-ALLDAYEVENT:FALSE
SUMMARY:Chamber's Federal Legislative Summit
DESCRIPTION:Plan to attend the annual Federal Legislative Summit on Thursday\, August 4\, 2016\, at the Strategic Air & Space Museum near Ashland (I-80 Exit 426).\n\nThis will be the eighth consecutive year for this high profile event hosted by the Nebraska Chamber\, along with the Lincoln and Omaha Chambers.\n\nThe 2016 Federal Legislative Summit will feature an update on important federal issues from Nebraska's U.S. senators and congressmen (invited)\, as well as a special presentation by keynote speaker Jay Timmons\, president and CEO of the National Association of Manufacturers (NAM). Mr. Timmons was recently named Association Executive of the Year by "Association Trends" magazine.\n\nOther planned highlights of the summit will be presentation from experts addressing Nebraska's current workforce and skilled labor shortage\, as well as an update on efforts to retain and grow Offutt Air Force Base\, which brings the state an estimated $1.3 billion in annual economic activity.  Offutt is one of Nebraska's largest employers with approximately 10\,000 military and civilian personnel.\n\nDoors will open at 7:30 a.m. and the event will begin at 8:30 a.m.  A buffet lunch will be provided.  The event will conclude no later than 1 p.m. \n\n \n\n\n\nRegistration fee is $95 for all State Chamber members\, as well as members of any local chamber in Nebraska.
X-ALT-DESC;FMTTYPE=text/html:Plan to attend the annual Federal Legislative Summit on Thursday\, August 4\, 2016\, at the Strategic Air &amp\; Space Museum near Ashland (I-80 Exit 426).<br />\nThis will be the eighth consecutive year for this high profile event hosted by the Nebraska Chamber\, along with the Lincoln and Omaha Chambers.<br />\nThe 2016 Federal Legislative Summit will feature an update on important federal issues from Nebraska&#39\;s U.S. senators and congressmen (invited)\, as well as a special presentation by keynote speaker Jay Timmons\, president and CEO of the National Association of Manufacturers (NAM). Mr. Timmons was recently named Association Executive of the Year by &quot\;Association Trends&quot\; magazine.<br />\nOther planned highlights of the summit will be presentation from experts addressing Nebraska&#39\;s current workforce and skilled labor shortage\, as well as an update on efforts to retain and grow Offutt Air Force Base\, which brings the state an estimated $1.3 billion in annual economic activity. &nbsp\;Offutt is one of Nebraska&#39\;s largest employers with approximately 10\,000 military and civilian personnel.<br />\n<span style="color: rgb(51\, 51\, 51)\; font-family: sans-serif\, Arial\, Verdana\, 'Trebuchet MS'\; font-size: 13px\; line-height: 20.8px\; background-color: rgb(255\, 255\, 255)\;">Doors will open at 7:30 a.m. and the event will begin at 8:30 a.m.&nbsp\; A buffet lunch will be provided.&nbsp\; The event will conclude no later than 1 p.m.&nbsp\;</span><br style="color: rgb(51\, 51\, 51)\; font-family: sans-serif\, Arial\, Verdana\, 'Trebuchet MS'\; font-size: 13px\; line-height: 20.8px\;" />\n<span style="color: rgb(51\, 51\, 51)\; font-family: sans-serif\, Arial\, Verdana\, 'Trebuchet MS'\; font-size: 13px\; line-height: 20.8px\; background-color: rgb(255\, 255\, 255)\;">&nbsp\;</span><br style="color: rgb(51\, 51\, 51)\; font-family: sans-serif\, Arial\, Verdana\, 'Trebuchet MS'\; font-size: 13px\; line-height: 20.8px\;" />\n<br style="color: rgb(51\, 51\, 51)\; font-family: sans-serif\, Arial\, Verdana\, 'Trebuchet MS'\; font-size: 13px\; line-height: 20.8px\;" />\n<span style="color: rgb(51\, 51\, 51)\; font-family: sans-serif\, Arial\, Verdana\, 'Trebuchet MS'\; font-size: 13px\; line-height: 20.8px\; background-color: rgb(255\, 255\, 255)\;">Registration fee is $95 for all State Chamber members\, as well as members of any local chamber in Nebraska.</span>
LOCATION:Strategic Air & Space Museum
UID:e.1404.8793
SEQUENCE:3
DTSTAMP:20260421T170956Z
URL:https://members.kearneycoc.org/events/details/chamber-s-federal-legislative-summit-08-04-2016-8793
END:VEVENT

END:VCALENDAR
