BEGIN:VCALENDAR
VERSION:2.0
PRODID:-//ChamberMaster//Event Calendar 2.0//EN
METHOD:PUBLISH
X-PUBLISHED-TTL:P3D
REFRESH-INTERVAL:P3D
CALSCALE:GREGORIAN
BEGIN:VEVENT
DTSTART:20160623T193000Z
DTEND:20160623T213000Z
X-MICROSOFT-CDO-ALLDAYEVENT:FALSE
SUMMARY:Chamber YOUniversity - Changes to Overtime Laws
DESCRIPTION:Are you prepared to navigate the new Federal Overtime Law Changes?\n\nThe Department of Labor has announced significant changes to the Fair Labor Standards Act (FLSA) covering overtime eligibility. 7.4 million organizations whether profit\, non-profit\, or government are affected. Management at every organization needs to learn what changes to employee classifications must be made NOW in order to be in compliance with Federal Law.  You have until December 1\, 2016 to comply with the announced changes.\n\n\n\nThe Kearney Area Chamber of Commerce in conjunction with HR Solutions\, of Hastings\, NE is presenting a two hour seminar for local employers.\n\n \nWhat You Will Learn:\n\n\n	What Overtime Laws Are Changing\n	What Makes A Position Non-Exempt or Exempt According to Overtime Laws\n	How To Properly Classify Positions\n	Learn Record Keeping Methods\n	Explore Efficient Solutions To Meet Your Business Needs\n\n\n The seminar will be led by John Hill\, President of HR Total Solutions. Mr. Hill provides Human Resource solutions to organizations in South Central Nebraska. He has over 40 years of practical and strategic experience in all facets of human capital.
X-ALT-DESC;FMTTYPE=text/html:<span style="font-size:14px\;"><strong><em><span style="font-family:helvetica lt\;">Are you prepared to navigate the new Federal Overtime Law Changes?</span></em></strong><br />\n<span style="font-family:helvetica lt\;">The Department of Labor has announced significant changes to the Fair Labor Standards Act (FLSA) covering overtime eligibility. 7.4 million organizations whether profit\, non-profit\, or government are affected. Management at every organization needs to learn what changes to employee classifications must be made NOW in order to be in compliance with Federal Law.&nbsp\; You have until December 1\, 2016 to comply with the announced changes.</span><br />\n<br />\n<span style="font-family:helvetica lt\;">The Kearney Area Chamber of Commerce in conjunction with HR Solutions\, of Hastings\, NE is presenting a two hour seminar for local employers.</span></span><br />\n&nbsp\;\n<div><span style="font-size:14px\;"><strong><span style="font-family:helvetica lt\;">What You Will Learn:</span></strong></span>\n\n<ul>\n	<li style="margin-bottom:0in\;margin-bottom:.0001pt\;"><span style="font-size:14px\;"><span style="font-family:helvetica lt\;">What Overtime Laws Are Changing</span></span></li>\n	<li style="margin-bottom:0in\;margin-bottom:.0001pt\;"><span style="font-size:14px\;"><span style="font-family:helvetica lt\;">What Makes A Position Non-Exempt or Exempt According to Overtime Laws</span></span></li>\n	<li style="margin-bottom:0in\;margin-bottom:.0001pt\;"><span style="font-size:14px\;"><span style="font-family:helvetica lt\;">How To Properly Classify Positions</span></span></li>\n	<li style="margin-bottom:0in\;margin-bottom:.0001pt\;"><span style="font-size:14px\;"><span style="font-family:helvetica lt\;">Learn Record Keeping Methods</span></span></li>\n	<li style="margin-bottom:0in\;margin-bottom:.0001pt\;"><span style="font-size:14px\;"><span style="font-family:helvetica lt\;">Explore Efficient Solutions To Meet Your Business Needs</span></span></li>\n</ul>\n</div>\n<span style="font-size:14px\;"> <span style="font-family:helvetica lt\;">The seminar will be led by John Hill\, President of HR Total Solutions. Mr. Hill provides Human Resource solutions to organizations in South Central Nebraska. He has over 40 years of practical and strategic experience in all facets of human capital.</span></span>
LOCATION:Kearney Public Library 2020 1st Ave Kearney NE
UID:e.1404.8761
SEQUENCE:3
DTSTAMP:20260421T184649Z
URL:https://members.kearneycoc.org/events/details/chamber-youniversity-changes-to-overtime-laws-06-23-2016-8761
END:VEVENT

END:VCALENDAR
