BEGIN:VCALENDAR
VERSION:2.0
PRODID:-//ChamberMaster//Event Calendar 2.0//EN
METHOD:PUBLISH
X-PUBLISHED-TTL:P3D
REFRESH-INTERVAL:P3D
CALSCALE:GREGORIAN
BEGIN:VEVENT
DTSTART:20160408T133000Z
DTEND:20160408T170000Z
X-MICROSOFT-CDO-ALLDAYEVENT:FALSE
SUMMARY:Chamber YOUniversity in Partnership with the NAIFA/NAHU Forum
DESCRIPTION:Chamber YOUniversity in partnership with the NAIFA/NAHU Forum\n\n\n\n8:30 am General Session:\n\nAvik Roy\, Senior Fellow\, Manhattan Institute - "Health Care Policy in the U.S." \n\nNBC's Chuck Todd on Meet the Press described Avik Roy as "one of the most thoughtful guys that [has] been debating health care reform." Roy is the author of Transcending Obamacare: A Patient-Centered Plan for Near-Universal Coverage and Permanent Fiscal Solvency. \n\n\n\nSteve Martin\, CEO\, Blue Cross Blue Shield\, Omaha\, NE - "Health Insurance for Tomorrow"\n\nGet top-level insight on the future of Nebraska's health insurance marketplace and the implications for agents\, brokers and consumers from BCBSNE CEO Steve Martin. \n\n\n\nShawn Eichhorst\, Athletic Director\, University of Nebraska - "What does it take to lead?" \n\nShawn Eichorst has made nearly 300 public appearances describing his primary mission to lead Nebraska Athletics in providing Husker student-athletes with the resources and support they need to be successful in academics\, athletics and life.  Eichorst's philosophy is to ensure that the health\, safety and welfare of student-athletes is at the heart of every action taken and every decision made. \n\n\n\nAndy Hoffman\, Atkinson\, NE - "Light Yourself on Fire"\n\nAndy Hoffman's life was turned completely upside down in 2011 when his son Jack would suffer a nearly fatal seizure which he later leaned was pediatric brain cancer. He will share his passion for the disease and his family's remarkable experiences\, including the Jack Foundation.
X-ALT-DESC;FMTTYPE=text/html:<span style="font-family:arial\;"><strong>Chamber YOUniversity&nbsp\;in partnership with the&nbsp\;NAIFA/NAHU&nbsp\;Forum</strong></span><br />\n<br />\n<strong>8:30 am General Session:<br />\nAvik Roy\, Senior Fellow\, Manhattan Institute - &quot\;Health Care Policy in the U.S.&quot\;&nbsp\;</strong><br />\nNBC&#39\;s Chuck Todd on Meet the Press described&nbsp\;Avik Roy as &quot\;one of the most thoughtful guys that [has] been debating health care reform.&quot\; Roy is the author of Transcending Obamacare: A Patient-Centered Plan for Near-Universal Coverage and Permanent Fiscal Solvency.&nbsp\;<br />\n<br />\n<strong>Steve Martin\, CEO\, Blue Cross Blue Shield\, Omaha\, NE - &quot\;Health Insurance for Tomorrow&quot\;</strong><br />\nGet top-level insight on the future of Nebraska&#39\;s health insurance marketplace and the implications for agents\, brokers and consumers from BCBSNE CEO Steve Martin.&nbsp\;<br />\n<br />\n<strong>Shawn Eichhorst\, Athletic Director\, University of Nebraska - &quot\;What does it take to lead?&quot\;</strong>&nbsp\;<br />\nShawn Eichorst has made nearly 300 public appearances describing his primary mission to lead Nebraska Athletics in providing Husker student-athletes with the resources and support they need to be successful in academics\, athletics and life.&nbsp\; Eichorst&rsquo\;s philosophy is to ensure that the health\, safety and welfare of student-athletes is at the heart of every action taken and every decision made.&nbsp\;<br />\n<br />\n<strong>Andy Hoffman\, Atkinson\, NE - &quot\;Light Yourself on Fire&quot\;</strong><br />\nAndy Hoffman&#39\;s life was turned completely upside down in 2011 when his son Jack would suffer a nearly fatal seizure which he later leaned was pediatric brain cancer. He will share his passion for the disease and his family&#39\;s remarkable experiences\, including the Jack Foundation.&nbsp\;<br />\n&nbsp\;
LOCATION:Younes Conference Center - Crystal 3 & 4 416 W Talmadge Rd Kearney NE
UID:e.1404.7522
SEQUENCE:3
DTSTAMP:20260421T234314Z
URL:https://members.kearneycoc.org/events/details/chamber-youniversity-in-partnership-with-the-naifa-nahu-forum-04-08-2016-7522
END:VEVENT

END:VCALENDAR
