BEGIN:VCALENDAR
VERSION:2.0
PRODID:-//ChamberMaster//Event Calendar 2.0//EN
METHOD:PUBLISH
X-PUBLISHED-TTL:P3D
REFRESH-INTERVAL:P3D
CALSCALE:GREGORIAN
BEGIN:VEVENT
DTSTART:20160504T133000Z
DTEND:20160504T170000Z
X-MICROSOFT-CDO-ALLDAYEVENT:FALSE
SUMMARY:Chamber YOUniversity - "Managing the Engagement Cycle" with Team Concepts
DESCRIPTION:"Managing the Engagement Cycle"\n\n?Employee Engagement is the number one predictor of success for any organization.?\n\n\n\nEmpowering you to profit\n\n	Emotionally \n	Professionally \n	Finacially\n\nAfter 20 years of coaching people and teams\, Josh Erickson has identified the key principals that lead to success.\n\n\n\n  Effectively identify the four levels of engagement\n\n  Discover trends that can predict change in team member engagement\n\n  Understand the important role personal strengths play in managing team engagement\n\n\n\n?Want to build a winning culture? Look no further than Josh Erickson and Team Concepts. His hands-on approach will empower your staff to build a unified vision and transform your culture.? Dr. Paul Plinske\, Director of Athletics\, University of Nebraska at Kearney
X-ALT-DESC;FMTTYPE=text/html:<u><strong>&quot\;Managing the Engagement Cycle&quot\;</strong></u><br />\n?Employee Engagement is the number one predictor of success for any organization.?<br />\n<br />\nEmpowering you to profit\n<ul>\n	<li>Emotionally&nbsp\;</li>\n	<li>Professionally&nbsp\;</li>\n	<li>Finacially</li>\n</ul>\nAfter 20 years of coaching people and teams\, Josh Erickson has identified the key principals that lead to success.<br />\n<br />\n&raquo\; Effectively identify the four levels of engagement<br />\n&raquo\; Discover trends that can predict change in team member engagement<br />\n&raquo\; Understand the important role personal strengths play in managing team engagement<br />\n<br />\n?Want to build a winning culture? Look no further than Josh Erickson and Team Concepts. His hands-on approach will empower your staff to build a unified vision and transform your culture.?&nbsp\;Dr. Paul Plinske\,&nbsp\;Director of Athletics\,&nbsp\;University of Nebraska at Kearney<br />\n<br />\n&nbsp\;
LOCATION:Team Concepts 301 Central Ave Kearney NE
UID:e.1404.7333
SEQUENCE:3
DTSTAMP:20260421T202843Z
URL:https://members.kearneycoc.org/events/details/chamber-youniversity-managing-the-engagement-cycle-with-team-concepts-05-04-2016-7333
END:VEVENT

END:VCALENDAR
