BEGIN:VCALENDAR
VERSION:2.0
PRODID:-//ChamberMaster//Event Calendar 2.0//EN
METHOD:PUBLISH
X-PUBLISHED-TTL:P3D
REFRESH-INTERVAL:P3D
CALSCALE:GREGORIAN
BEGIN:VEVENT
DTSTART:20160210T150000Z
DTEND:20160210T180000Z
X-MICROSOFT-CDO-ALLDAYEVENT:FALSE
SUMMARY:Chamber YOUniversity - Recruiting and Retention Seminar by Mike Henke
DESCRIPTION:9:00-10:30 Recruiting\n\nHow to attract the best candidates to your organization\, and how to successfully manage the process once they have applied so the rock stars work for you!\n\nYou will be able to create an Action Plan specific to your organization in this session!\n\n \n\n10:30-12:00 Retention\n\nHear what the 3 Keys to Retention are in today's changing world\, and how to create a work environment that will avoid costly employee turnover! You will be able to create an Action Plan specific to your organization in this session\, too!
X-ALT-DESC;FMTTYPE=text/html:9:00-10:30 Recruiting<br />\nHow to attract the best candidates to your organization\, and how to successfully manage the process once they have applied so the rock stars work for you!<br />\nYou will be able to create an Action Plan specific to your organization in this session!<br />\n&nbsp\;<br />\n10:30-12:00 Retention<br />\nHear what the 3 Keys to Retention are in today&#39\;s changing world\, and how to create a work environment that will avoid costly employee turnover! You will be able to create an Action Plan specific to your organization in this session\, too!
LOCATION:Yanney Park - ERC Building 2020 W 11th St Kearney NE 68845
UID:e.1404.7249
SEQUENCE:3
DTSTAMP:20260422T012434Z
URL:https://members.kearneycoc.org/events/details/chamber-youniversity-recruiting-and-retention-seminar-by-mike-henke-02-10-2016-7249
END:VEVENT

END:VCALENDAR
