BEGIN:VCALENDAR
VERSION:2.0
PRODID:-//ChamberMaster//Event Calendar 2.0//EN
METHOD:PUBLISH
X-PUBLISHED-TTL:P3D
REFRESH-INTERVAL:P3D
CALSCALE:GREGORIAN
BEGIN:VEVENT
DTSTART:20151112T010000Z
DTEND:20151112T023000Z
X-MICROSOFT-CDO-ALLDAYEVENT:FALSE
SUMMARY:Changing The Game Project: John O'Sullivan
DESCRIPTION:Join renowned youth and sports psychology expert John O'Sullivan for insight on disturbing youth sports trends and how many parents and coaches are actually sabotaging performance without even knowing it.\n\n\n\nEvery parent and coach wants what is best for their children and players\, and John will share knowledge from his decades of research\, playing\, and coaching at the youth\, high school\, college\, and professional levels. He'll offer insight on providing an environment of self-motivation\, high performance\, and JOY by creating a player-centered environment.
X-ALT-DESC;FMTTYPE=text/html:<p style="margin-top:7.5pt\;margin-right:0in\;margin-bottom:7.5pt\;margin-left:\n0in"><span style="font-size:9.0pt\;font-family:&quot\;Helvetica&quot\;\,sans-serif\;\ncolor:#656565">Join renowned youth and sports psychology expert&nbsp\;<strong>John O&#39\;Sullivan</strong>&nbsp\;for insight on disturbing youth sports trends and how many parents and coaches are actually sabotaging performance without even knowing it.<br />\n<br />\nEvery parent and coach wants what is best for their children and players\, and John will share knowledge from his decades of research\, playing\, and coaching at the youth\, high school\, college\, and professional levels. He&#39\;ll offer insight on providing an environment of self-motivation\, high performance\, and JOY by creating a player-centered environment.<o:p></o:p></span></p>\n
LOCATION:Merryman Performing Arts Center 225 W 22 St
UID:e.1404.7057
SEQUENCE:3
DTSTAMP:20260422T064720Z
URL:https://members.kearneycoc.org/events/details/changing-the-game-project-john-o-sullivan-11-11-2015-7057
END:VEVENT

END:VCALENDAR
