BEGIN:VCALENDAR
VERSION:2.0
PRODID:-//ChamberMaster//Event Calendar 2.0//EN
METHOD:PUBLISH
X-PUBLISHED-TTL:P3D
REFRESH-INTERVAL:P3D
CALSCALE:GREGORIAN
BEGIN:VEVENT
DTSTART:20190525T000000Z
DTEND:20190525T040000Z
X-MICROSOFT-CDO-ALLDAYEVENT:FALSE
SUMMARY:Charlie Daniels Band & Travis Tritt
DESCRIPTION:Doors Open at 6 PM
X-ALT-DESC;FMTTYPE=text/html:Doors Open at 6 PM
LOCATION:Viaero Events Center
UID:e.1404.14395
SEQUENCE:3
DTSTAMP:20260426T004551Z
URL:https://members.kearneycoc.org/events/details/charlie-daniels-band-travis-tritt-14395
END:VEVENT

END:VCALENDAR
