BEGIN:VCALENDAR
VERSION:2.0
PRODID:-//ChamberMaster//Event Calendar 2.0//EN
METHOD:PUBLISH
X-PUBLISHED-TTL:P3D
REFRESH-INTERVAL:P3D
CALSCALE:GREGORIAN
BEGIN:VEVENT
DTSTART:20160206T233000Z
DTEND:20160207T023000Z
X-MICROSOFT-CDO-ALLDAYEVENT:FALSE
SUMMARY:Chinese Spring Festival in the Student Union
DESCRIPTION:
X-ALT-DESC;FMTTYPE=text/html:
LOCATION:
UID:e.1404.7503
SEQUENCE:3
DTSTAMP:20260422T012429Z
URL:https://members.kearneycoc.org/events/details/chinese-spring-festival-in-the-student-union-02-06-2016-7503
END:VEVENT

END:VCALENDAR
