BEGIN:VCALENDAR
VERSION:2.0
PRODID:-//ChamberMaster//Event Calendar 2.0//EN
METHOD:PUBLISH
X-PUBLISHED-TTL:P3D
REFRESH-INTERVAL:P3D
CALSCALE:GREGORIAN
BEGIN:VEVENT
DTSTART:20191029T003000Z
DTEND:20191029T020000Z
X-MICROSOFT-CDO-ALLDAYEVENT:FALSE
SUMMARY:Choral Symposium Concert
DESCRIPTION:Come 'Join in the Music"! Kearney High School will host UNK's 7th annual Composer-Conductor-Teacher Symposium featuring Dr. Vijay Singh. This concert will include performances by the UNK Choraleers and other area choirs.
X-ALT-DESC;FMTTYPE=text/html:Come &#39\;Join in the Music&quot\;! Kearney High School will host UNK&#39\;s 7th annual Composer-Conductor-Teacher Symposium featuring Dr. Vijay Singh. This concert will include performances by the UNK Choraleers and other area choirs.
LOCATION:Kearney High School Concert Hall
UID:e.1404.18241
SEQUENCE:3
DTSTAMP:20260425T163859Z
URL:https://members.kearneycoc.org/events/details/choral-symposium-concert-18241
END:VEVENT

END:VCALENDAR
