BEGIN:VCALENDAR
VERSION:2.0
PRODID:-//ChamberMaster//Event Calendar 2.0//EN
METHOD:PUBLISH
X-PUBLISHED-TTL:P3D
REFRESH-INTERVAL:P3D
CALSCALE:GREGORIAN
BEGIN:VEVENT
DTSTART:20191014T003000Z
DTEND:20191014T020000Z
X-MICROSOFT-CDO-ALLDAYEVENT:FALSE
SUMMARY:Choraleers & Collegium Fall Concert
DESCRIPTION:Come 'Join in the Music' as the UNK Choraleers & Collegium Choruses present a fall concert under the direction of Dr. John Petzet.
X-ALT-DESC;FMTTYPE=text/html:Come &#39\;Join in the Music&#39\; as the UNK Choraleers &amp\; Collegium Choruses present a fall concert under the direction of Dr. John Petzet.
LOCATION:St. Luke's Protestant Episcopal Church 2304 2nd Ave. Kearney\, NE
UID:e.1404.18150
SEQUENCE:3
DTSTAMP:20260425T163959Z
URL:https://members.kearneycoc.org/events/details/choraleers-collegium-fall-concert-18150
END:VEVENT

END:VCALENDAR
