BEGIN:VCALENDAR
VERSION:2.0
PRODID:-//ChamberMaster//Event Calendar 2.0//EN
METHOD:PUBLISH
X-PUBLISHED-TTL:P3D
REFRESH-INTERVAL:P3D
CALSCALE:GREGORIAN
BEGIN:VEVENT
DTSTART:20260331T163000Z
DTEND:20260331T180000Z
X-MICROSOFT-CDO-ALLDAYEVENT:FALSE
SUMMARY:Christian Business Leaders Luncheon
DESCRIPTION:Connect with fellow Christian business leaders for practical insight\, encouragement\, and purpose-driven leadership you can apply at work.
X-ALT-DESC;FMTTYPE=text/html:<span class="a_GcMg font-feature-liga-off font-feature-clig-off font-feature-calt-off text-decoration-none text-strikethrough-none" style="color: rgba(10\,63\,63\,var(--O42jJQ\,1))\; caret-color: rgb(10\, 63\, 63)\; --Ys-XuQ: none\; font-kerning: normal\;">Connect with fellow Christian business leaders for practical insight\, encouragement\, and purpose-driven leadership you can apply at work.</span>
LOCATION:Kearney Area Chamber of Commerce 220 11th Ave Buffalo Room
UID:e.1404.26186
SEQUENCE:3
DTSTAMP:20260426T032759Z
URL:https://members.kearneycoc.org/events/details/christian-business-leaders-luncheon-26186
END:VEVENT

END:VCALENDAR
