BEGIN:VCALENDAR
VERSION:2.0
PRODID:-//ChamberMaster//Event Calendar 2.0//EN
METHOD:PUBLISH
X-PUBLISHED-TTL:P3D
REFRESH-INTERVAL:P3D
CALSCALE:GREGORIAN
BEGIN:VEVENT
DTSTART:20141202T230000Z
DTEND:20141202T232000Z
X-MICROSOFT-CDO-ALLDAYEVENT:FALSE
SUMMARY:Christmas Tree Lighting
DESCRIPTION:To welcome the Advent season\, CHI Health Good Samaritan will continue a community tradition that began four years ago. The hospital is celebrating the holidays with a Christmas tree lighting ceremony for the community at 5 p.m. on Tuesday\, Dec. 2 in the hospital?s main lobby. The hospital will light its 15-foot Christmas tree for the first time this season during a brief ceremony that will include carols. The ceremony will be followed with refreshments.
X-ALT-DESC;FMTTYPE=text/html:To welcome the Advent season\, CHI Health Good Samaritan will continue a community tradition that began four years ago. The hospital is celebrating&nbsp\;the holidays with a Christmas tree lighting ceremony for the community at 5 p.m. on Tuesday\, Dec. 2 in the hospital?s main lobby. The hospital will light its 15-foot Christmas tree for the first time this season during a brief ceremony that will include carols. The ceremony will be followed with refreshments.
LOCATION:CHI Health Good Samaritan Main Lobby
UID:e.1404.5418
SEQUENCE:3
DTSTAMP:20260423T020402Z
URL:https://members.kearneycoc.org/events/details/christmas-tree-lighting-12-02-2014-5418
END:VEVENT

END:VCALENDAR
