BEGIN:VCALENDAR
VERSION:2.0
PRODID:-//ChamberMaster//Event Calendar 2.0//EN
METHOD:PUBLISH
X-PUBLISHED-TTL:P3D
REFRESH-INTERVAL:P3D
CALSCALE:GREGORIAN
BEGIN:VEVENT
DTSTART:20141204T220000Z
DTEND:20141205T020000Z
X-MICROSOFT-CDO-ALLDAYEVENT:FALSE
SUMMARY:Christmas Walk
DESCRIPTION:The Bricks Premier Christmas Festival?.. Enjoy refreshments\, discounts\, drawings\, carolers\, hay-rack rides\, reindeer\, visits with Santa and lots family fun to kick off the holiday season. The Bricks: Kearney?s retail destination for over 100 years
X-ALT-DESC;FMTTYPE=text/html:The Bricks Premier Christmas Festival?.. Enjoy refreshments\, discounts\, drawings\, carolers\, hay-rack rides\, reindeer\, visits with Santa and lots family fun to kick off the holiday season. The Bricks: Kearney?s retail destination for over 100 years
LOCATION:Downtown Kearney
UID:e.1404.5387
SEQUENCE:3
DTSTAMP:20260423T033019Z
URL:https://members.kearneycoc.org/events/details/christmas-walk-12-04-2014-5387
END:VEVENT

END:VCALENDAR
