BEGIN:VCALENDAR
VERSION:2.0
PRODID:-//ChamberMaster//Event Calendar 2.0//EN
METHOD:PUBLISH
X-PUBLISHED-TTL:P3D
REFRESH-INTERVAL:P3D
CALSCALE:GREGORIAN
BEGIN:VEVENT
DTSTART:20211202T220000Z
DTEND:20211203T020000Z
X-MICROSOFT-CDO-ALLDAYEVENT:FALSE
SUMMARY:Christmas Walk on the Bricks
DESCRIPTION:Experience Downtown Kearney's annual old fashioned Christmas Walk with live reindeer\, Santa\, his elves and Mrs. Claus\, a live stable\, horse-drawn hayrack rides\, old red pick-up truck\, human snow globe\, holiday performances\, caroling\, shopping and refreshments. This event is brought to you by the City of Kearney\, the Downtown Improvement Board\, downtown merchants\, Kearney Park & Recreation\, the Kearney Hub\, American Family Insurance and the Rustic Patch.
X-ALT-DESC;FMTTYPE=text/html:Experience Downtown Kearney&#39\;s annual old fashioned Christmas Walk with live reindeer\, Santa\, his elves and Mrs. Claus\, a live stable\, horse-drawn hayrack rides\, old red pick-up truck\, human snow globe\, holiday performances\, caroling\, shopping and refreshments. This event is brought to you by the City of Kearney\, the Downtown Improvement Board\, downtown merchants\, Kearney Park &amp\; Recreation\, the Kearney Hub\, American Family Insurance and the Rustic Patch.
LOCATION:Downtown Kearney
UID:e.1404.19460
SEQUENCE:3
DTSTAMP:20260423T195436Z
URL:https://members.kearneycoc.org/events/details/christmas-walk-on-the-bricks-12-02-2021-19460
END:VEVENT

END:VCALENDAR
