BEGIN:VCALENDAR
VERSION:2.0
PRODID:-//ChamberMaster//Event Calendar 2.0//EN
METHOD:PUBLISH
X-PUBLISHED-TTL:P3D
REFRESH-INTERVAL:P3D
CALSCALE:GREGORIAN
BEGIN:VEVENT
DTSTART:20201203T220000Z
DTEND:20201204T020000Z
X-MICROSOFT-CDO-ALLDAYEVENT:FALSE
SUMMARY:Christmas Walk on the Bricks
DESCRIPTION:Come to Downtown Kearney for their annual old fashioned Christmas Walk where you will see Santa\, one of his elves and Mrs. Claus and his reindeer and be able to mail a letter to Santa. There will be caroling\, Mom & Pop's Kettle Korn\, Candy Clouds' funnel cakes\, cookie and ornament kits to go at @Ktown Cakery and @Paint Paradise and\, of course\, unique shopping and refreshments at your favorite shops. Voting for the Deck the Windows merchant contest begins that night as well. Due to COVID-19\, please shop in groups of eight or less\, be socially distant of at least six feet and wear a mask.
X-ALT-DESC;FMTTYPE=text/html:Come to Downtown Kearney for their annual old fashioned Christmas Walk where you will see Santa\, one of his elves and Mrs. Claus and his reindeer and be able to mail a letter to Santa. There will be caroling\, Mom &amp\; Pop&#39\;s Kettle Korn\, Candy Clouds&#39\; funnel cakes\, cookie and ornament kits to go at @Ktown Cakery and @Paint Paradise and\, of course\, unique shopping and refreshments at your favorite shops. Voting for the Deck the Windows merchant contest begins that night as well. Due to COVID-19\, please shop in groups of eight or less\, be socially distant of at least six feet and wear a mask.
LOCATION:Downtown Kearney
UID:e.1404.18774
SEQUENCE:3
DTSTAMP:20260424T174244Z
URL:https://members.kearneycoc.org/events/details/christmas-walk-on-the-bricks-12-03-2020-18774
END:VEVENT

END:VCALENDAR
